BEGIN:VCALENDAR
VERSION:2.0
PRODID:-//eventon.com NONSGML v1.0//EN
CALSCALE:GREGORIAN
METHOD:PUBLISH
BEGIN:VEVENT
UID:69eba2c29e1cd
DTSTAMP:20260424T170506Z
DTSTART:20231107T194000Z
DTEND:20231108T004500Z
LOCATION:
SUMMARY:Basketball WA School Slam Series Carnival
DESCRIPTION:Selected year 6 students will be representing Baler PS in the B
 asketball WA School Slam Series Carnival\,  going against other Hedland Pri
 mary Schools\,  held at Wanangkura Stadium.\nhttps://balerps.wa.edu.au/even
 ts/basketball-wa-school-slam-series-carnival/
URL:https://balerps.wa.edu.au/events/basketball-wa-school-slam-series-carnival/
END:VEVENT
END:VCALENDAR